Package: GenomicDistributions Version: 1.17.1 Command: /Library/Frameworks/R.framework/Resources/bin/R CMD INSTALL GenomicDistributions StartedAt: 2025-10-24 15:25:20 -0400 (Fri, 24 Oct 2025) EndedAt: 2025-10-24 15:25:43 -0400 (Fri, 24 Oct 2025) EllapsedTime: 23.4 seconds RetCode: 0 Status: OK