Package: GenomicDistributions Version: 1.17.1 Command: rm -rf GenomicDistributions.buildbin-libdir && mkdir GenomicDistributions.buildbin-libdir && /Users/biocbuild/BBS/utils/build-universal.sh GenomicDistributions_1.17.1.tar.gz /Library/Frameworks/R.framework/Resources/bin/R GenomicDistributions.buildbin-libdir StartedAt: 2025-10-25 01:42:00 -0400 (Sat, 25 Oct 2025) EndedAt: 2025-10-25 01:42:26 -0400 (Sat, 25 Oct 2025) EllapsedTime: 25.5 seconds RetCode: 0 Status: OK PackageFile: GenomicDistributions_1.17.1.tgz PackageFileSize: 5.646 MiB