Package: GenomicDataCommons Version: 1.33.1 Command: /home/biocbuild/R/R/bin/R CMD INSTALL GenomicDataCommons StartedAt: 2025-10-23 20:36:17 -0000 (Thu, 23 Oct 2025) EndedAt: 2025-10-23 20:36:32 -0000 (Thu, 23 Oct 2025) EllapsedTime: 15.2 seconds RetCode: 0 Status: OK