Package: GenomicDataCommons Version: 1.33.1 Command: /home/biocbuild/bbs-3.22-bioc/R/bin/R CMD INSTALL GenomicDataCommons StartedAt: 2025-10-24 15:27:27 -0400 (Fri, 24 Oct 2025) EndedAt: 2025-10-24 15:27:37 -0400 (Fri, 24 Oct 2025) EllapsedTime: 10.4 seconds RetCode: 0 Status: OK