Package: GenomicDataCommons Version: 1.33.1 Command: /Library/Frameworks/R.framework/Resources/bin/R CMD INSTALL GenomicDataCommons StartedAt: 2025-10-24 15:13:42 -0400 (Fri, 24 Oct 2025) EndedAt: 2025-10-24 15:13:46 -0400 (Fri, 24 Oct 2025) EllapsedTime: 4.4 seconds RetCode: 0 Status: OK