Package: GenomicAlignments Version: 1.45.4 Command: /home/biocbuild/bbs-3.22-bioc/R/bin/R CMD INSTALL GenomicAlignments StartedAt: 2025-10-24 15:35:28 -0400 (Fri, 24 Oct 2025) EndedAt: 2025-10-24 15:36:02 -0400 (Fri, 24 Oct 2025) EllapsedTime: 34.3 seconds RetCode: 0 Status: OK