Package: GenomicAlignments Version: 1.45.4 Command: /home/biocbuild/bbs-3.22-bioc/R/bin/R CMD check --install=check:GenomicAlignments.install-out.txt --library=/home/biocbuild/bbs-3.22-bioc/R/site-library --timings GenomicAlignments_1.45.4.tar.gz StartedAt: 2025-10-25 00:00:39 -0400 (Sat, 25 Oct 2025) EndedAt: 2025-10-25 00:06:28 -0400 (Sat, 25 Oct 2025) EllapsedTime: 349.3 seconds RetCode: 0 Status: OK CheckDir: GenomicAlignments.Rcheck Warnings: 0