Package: GenomicAlignments Version: 1.45.4 Command: /home/biocbuild/bbs-3.22-bioc/R/bin/R CMD build --keep-empty-dirs --no-resave-data --md5 GenomicAlignments StartedAt: 2025-10-24 17:57:05 -0400 (Fri, 24 Oct 2025) EndedAt: 2025-10-24 17:58:38 -0400 (Fri, 24 Oct 2025) EllapsedTime: 93.1 seconds RetCode: 0 Status: OK PackageFile: GenomicAlignments_1.45.4.tar.gz PackageFileSize: 2.168 MiB