Package: GenomicAlignments Version: 1.45.5 Command: /Library/Frameworks/R.framework/Resources/bin/R CMD INSTALL GenomicAlignments StartedAt: 2025-10-26 15:13:19 -0400 (Sun, 26 Oct 2025) EndedAt: 2025-10-26 15:13:33 -0400 (Sun, 26 Oct 2025) EllapsedTime: 14.3 seconds RetCode: 0 Status: OK