Package: GenomeInfoDb Version: 1.45.12 Command: /home/biocbuild/bbs-3.22-bioc/R/bin/R CMD INSTALL GenomeInfoDb StartedAt: 2025-10-24 15:25:04 -0400 (Fri, 24 Oct 2025) EndedAt: 2025-10-24 15:25:13 -0400 (Fri, 24 Oct 2025) EllapsedTime: 8.6 seconds RetCode: 0 Status: OK