Package: GenomeInfoDb Version: 1.45.12 Command: /home/biocbuild/bbs-3.22-bioc/R/bin/R CMD build --keep-empty-dirs --no-resave-data --md5 GenomeInfoDb StartedAt: 2025-10-24 17:56:50 -0400 (Fri, 24 Oct 2025) EndedAt: 2025-10-24 17:57:17 -0400 (Fri, 24 Oct 2025) EllapsedTime: 27.0 seconds RetCode: 0 Status: OK PackageFile: GenomeInfoDb_1.45.12.tar.gz PackageFileSize: 3.48 MiB