Package: GenomeInfoDb Version: 1.45.13 Command: /Library/Frameworks/R.framework/Resources/bin/R CMD INSTALL GenomeInfoDb StartedAt: 2025-10-26 15:07:54 -0400 (Sun, 26 Oct 2025) EndedAt: 2025-10-26 15:07:59 -0400 (Sun, 26 Oct 2025) EllapsedTime: 4.3 seconds RetCode: 0 Status: OK