Package: GenomeInfoDb Version: 1.45.12 Command: /Library/Frameworks/R.framework/Resources/bin/R CMD build --keep-empty-dirs --no-resave-data GenomeInfoDb StartedAt: 2025-10-24 16:31:41 -0400 (Fri, 24 Oct 2025) EndedAt: 2025-10-24 16:31:56 -0400 (Fri, 24 Oct 2025) EllapsedTime: 14.2 seconds RetCode: 0 Status: OK PackageFile: GenomeInfoDb_1.45.12.tar.gz PackageFileSize: 3.474 MiB