Package: GenomeInfoDb Version: 1.45.13 Command: rm -rf GenomeInfoDb.buildbin-libdir && mkdir GenomeInfoDb.buildbin-libdir && /Users/biocbuild/BBS/utils/build-universal.sh GenomeInfoDb_1.45.13.tar.gz /Library/Frameworks/R.framework/Resources/bin/R GenomeInfoDb.buildbin-libdir StartedAt: 2025-10-26 22:36:53 -0400 (Sun, 26 Oct 2025) EndedAt: 2025-10-26 22:36:57 -0400 (Sun, 26 Oct 2025) EllapsedTime: 4.1 seconds RetCode: 0 Status: OK PackageFile: GenomeInfoDb_1.45.13.tgz PackageFileSize: 3.705 MiB