Package: GenomAutomorphism Version: 1.11.2 Command: /home/biocbuild/bbs-3.22-bioc/R/bin/R CMD INSTALL GenomAutomorphism StartedAt: 2025-10-27 15:18:05 -0400 (Mon, 27 Oct 2025) EndedAt: 2025-10-27 15:18:27 -0400 (Mon, 27 Oct 2025) EllapsedTime: 21.7 seconds RetCode: 0 Status: OK