Package: GenomAutomorphism Version: 1.11.2 Command: /home/biocbuild/bbs-3.22-bioc/R/bin/R CMD build --keep-empty-dirs --no-resave-data --md5 GenomAutomorphism StartedAt: 2025-10-27 17:48:03 -0400 (Mon, 27 Oct 2025) EndedAt: 2025-10-27 17:49:30 -0400 (Mon, 27 Oct 2025) EllapsedTime: 87.1 seconds RetCode: 0 Status: OK PackageFile: GenomAutomorphism_1.11.2.tar.gz PackageFileSize: 1.421 MiB