Package: GenomAutomorphism Version: 1.11.2 Command: /Library/Frameworks/R.framework/Resources/bin/R CMD build --keep-empty-dirs --no-resave-data GenomAutomorphism StartedAt: 2025-10-27 16:29:35 -0400 (Mon, 27 Oct 2025) EndedAt: 2025-10-27 16:30:10 -0400 (Mon, 27 Oct 2025) EllapsedTime: 35.4 seconds RetCode: 0 Status: OK PackageFile: GenomAutomorphism_1.11.2.tar.gz PackageFileSize: 1.339 MiB