Package: GenomAutomorphism Version: 1.12.0 Maintainer: Robersy Sanchez MaintainerEmail: genomicmath at gmail.com git_url: https://git.bioconductor.org/packages/GenomAutomorphism git_branch: RELEASE_3_22 git_last_commit: bb13ab8 git_last_commit_date: 2025-10-29 11:17:59 -0400 (Wed, 29 Oct 2025)