Package: GeneticsPed Version: 1.71.0 Command: /home/biocbuild/bbs-3.22-bioc/R/bin/R CMD INSTALL GeneticsPed StartedAt: 2025-10-24 15:15:23 -0400 (Fri, 24 Oct 2025) EndedAt: 2025-10-24 15:15:41 -0400 (Fri, 24 Oct 2025) EllapsedTime: 18.8 seconds RetCode: 0 Status: OK