Package: GeneStructureTools Version: 1.29.0 Command: /home/biocbuild/R/R/bin/R CMD build --keep-empty-dirs --no-resave-data GeneStructureTools StartedAt: 2025-10-20 23:58:08 -0000 (Mon, 20 Oct 2025) EndedAt: 2025-10-20 23:58:09 -0000 (Mon, 20 Oct 2025) EllapsedTime: 1.0 seconds RetCode: 1 Status: ERROR PackageFile: None PackageFileSize: NA