Package: GeneStructureTools Version: 1.29.0 Command: /home/biocbuild/bbs-3.22-bioc/R/bin/R CMD check --install=check:GeneStructureTools.install-out.txt --library=/home/biocbuild/bbs-3.22-bioc/R/site-library --timings GeneStructureTools_1.29.0.tar.gz StartedAt: 2025-10-24 23:59:24 -0400 (Fri, 24 Oct 2025) EndedAt: 2025-10-25 00:07:37 -0400 (Sat, 25 Oct 2025) EllapsedTime: 493.4 seconds RetCode: 0 Status: OK CheckDir: GeneStructureTools.Rcheck Warnings: 0