Package: GeneStructureTools Version: 1.29.0 Command: /Library/Frameworks/R.framework/Resources/bin/R CMD build --keep-empty-dirs --no-resave-data GeneStructureTools StartedAt: 2025-10-24 17:11:32 -0400 (Fri, 24 Oct 2025) EndedAt: 2025-10-24 17:14:27 -0400 (Fri, 24 Oct 2025) EllapsedTime: 175.8 seconds RetCode: 0 Status: OK PackageFile: GeneStructureTools_1.29.0.tar.gz PackageFileSize: 2.848 MiB