Package: GeneStructureTools Version: 1.29.0 Command: rm -rf GeneStructureTools.buildbin-libdir && mkdir GeneStructureTools.buildbin-libdir && /Users/biocbuild/BBS/utils/build-universal.sh GeneStructureTools_1.29.0.tar.gz /Library/Frameworks/R.framework/Resources/bin/R GeneStructureTools.buildbin-libdir StartedAt: 2025-10-25 01:41:45 -0400 (Sat, 25 Oct 2025) EndedAt: 2025-10-25 01:43:00 -0400 (Sat, 25 Oct 2025) EllapsedTime: 74.7 seconds RetCode: 0 Status: OK PackageFile: GeneStructureTools_1.29.0.tgz PackageFileSize: 2.352 MiB