Package: GeneStructureTools Version: 1.29.0 Command: /Library/Frameworks/R.framework/Resources/bin/R CMD INSTALL GeneStructureTools StartedAt: 2025-10-24 15:31:07 -0400 (Fri, 24 Oct 2025) EndedAt: 2025-10-24 15:31:29 -0400 (Fri, 24 Oct 2025) EllapsedTime: 21.9 seconds RetCode: 0 Status: OK