Package: GeneStructureTools Version: 1.29.0 Command: /Library/Frameworks/R.framework/Resources/bin/R CMD build --keep-empty-dirs --no-resave-data GeneStructureTools StartedAt: 2025-10-24 16:31:29 -0400 (Fri, 24 Oct 2025) EndedAt: 2025-10-24 16:32:25 -0400 (Fri, 24 Oct 2025) EllapsedTime: 55.6 seconds RetCode: 0 Status: OK PackageFile: GeneStructureTools_1.29.0.tar.gz PackageFileSize: 2.848 MiB