Package: GeneSelectMMD Version: 2.54.0 Command: /Library/Frameworks/R.framework/Resources/bin/R CMD INSTALL GeneSelectMMD StartedAt: 2025-11-10 15:06:51 -0500 (Mon, 10 Nov 2025) EndedAt: 2025-11-10 15:06:55 -0500 (Mon, 10 Nov 2025) EllapsedTime: 3.7 seconds RetCode: 0 Status: OK