Package: GeneSelectMMD Version: 2.54.0 Command: /Library/Frameworks/R.framework/Resources/bin/R CMD build --keep-empty-dirs --no-resave-data GeneSelectMMD StartedAt: 2025-11-10 16:29:15 -0500 (Mon, 10 Nov 2025) EndedAt: 2025-11-10 16:29:24 -0500 (Mon, 10 Nov 2025) EllapsedTime: 9.1 seconds RetCode: 0 Status: OK PackageFile: GeneSelectMMD_2.54.0.tar.gz PackageFileSize: 455.1 KiB