Package: GeneSelectMMD Version: 2.54.0 Command: rm -rf GeneSelectMMD.buildbin-libdir && mkdir GeneSelectMMD.buildbin-libdir && /Users/biocbuild/BBS/utils/build-universal.sh GeneSelectMMD_2.54.0.tar.gz /Library/Frameworks/R.framework/Resources/bin/R GeneSelectMMD.buildbin-libdir StartedAt: 2025-11-10 23:21:16 -0500 (Mon, 10 Nov 2025) EndedAt: 2025-11-10 23:21:21 -0500 (Mon, 10 Nov 2025) EllapsedTime: 5.1 seconds RetCode: 0 Status: OK PackageFile: GeneSelectMMD_2.54.0.tgz PackageFileSize: 550.5 KiB