Package: GeneRegionScan Version: 1.65.0 Command: /home/biocbuild/bbs-3.22-bioc/R/bin/R CMD INSTALL GeneRegionScan StartedAt: 2025-10-24 15:27:37 -0400 (Fri, 24 Oct 2025) EndedAt: 2025-10-24 15:27:50 -0400 (Fri, 24 Oct 2025) EllapsedTime: 13.0 seconds RetCode: 0 Status: OK