Package: GeneNetworkBuilder Version: 1.51.0 Command: /home/biocbuild/bbs-3.22-bioc/R/bin/R CMD INSTALL GeneNetworkBuilder StartedAt: 2025-10-24 15:25:27 -0400 (Fri, 24 Oct 2025) EndedAt: 2025-10-24 15:25:44 -0400 (Fri, 24 Oct 2025) EllapsedTime: 16.6 seconds RetCode: 0 Status: OK