Package: GeneGA Version: 1.59.0 Command: /home/biocbuild/bbs-3.22-bioc/R/bin/R CMD INSTALL GeneGA StartedAt: 2025-10-24 15:16:48 -0400 (Fri, 24 Oct 2025) EndedAt: 2025-10-24 15:17:25 -0400 (Fri, 24 Oct 2025) EllapsedTime: 36.4 seconds RetCode: 0 Status: OK