Package: GeneGA Version: 1.59.0 Command: /home/biocbuild/bbs-3.22-bioc/R/bin/R CMD build --keep-empty-dirs --no-resave-data --md5 GeneGA StartedAt: 2025-10-24 17:55:07 -0400 (Fri, 24 Oct 2025) EndedAt: 2025-10-24 17:56:16 -0400 (Fri, 24 Oct 2025) EllapsedTime: 69.0 seconds RetCode: 0 Status: OK PackageFile: GeneGA_1.59.0.tar.gz PackageFileSize: 229.1 KiB