Package: GeneExpressionSignature Version: 1.56.0 Command: /home/biocbuild/bbs-3.22-bioc/R/bin/R CMD check --install=check:GeneExpressionSignature.install-out.txt --library=/home/biocbuild/bbs-3.22-bioc/R/site-library --timings GeneExpressionSignature_1.56.0.tar.gz StartedAt: 2025-10-31 23:59:33 -0400 (Fri, 31 Oct 2025) EndedAt: 2025-11-01 00:00:40 -0400 (Sat, 01 Nov 2025) EllapsedTime: 66.1 seconds RetCode: 0 Status: OK CheckDir: GeneExpressionSignature.Rcheck Warnings: 0