Package: GeneExpressionSignature Version: 1.55.0 Command: /Library/Frameworks/R.framework/Resources/bin/R CMD INSTALL GeneExpressionSignature StartedAt: 2025-10-24 15:22:57 -0400 (Fri, 24 Oct 2025) EndedAt: 2025-10-24 15:23:13 -0400 (Fri, 24 Oct 2025) EllapsedTime: 16.5 seconds RetCode: 0 Status: OK