Package: GeneExpressionSignature Version: 1.55.0 Command: /Library/Frameworks/R.framework/Resources/bin/R CMD build --keep-empty-dirs --no-resave-data GeneExpressionSignature StartedAt: 2025-10-24 17:10:50 -0400 (Fri, 24 Oct 2025) EndedAt: 2025-10-24 17:11:27 -0400 (Fri, 24 Oct 2025) EllapsedTime: 36.6 seconds RetCode: 0 Status: OK PackageFile: GeneExpressionSignature_1.55.0.tar.gz PackageFileSize: 2.545 MiB