Package: GeneExpressionSignature Version: 1.55.0 Command: rm -rf GeneExpressionSignature.buildbin-libdir && mkdir GeneExpressionSignature.buildbin-libdir && /Users/biocbuild/BBS/utils/build-universal.sh GeneExpressionSignature_1.55.0.tar.gz /Library/Frameworks/R.framework/Resources/bin/R GeneExpressionSignature.buildbin-libdir StartedAt: 2025-10-24 23:04:02 -0400 (Fri, 24 Oct 2025) EndedAt: 2025-10-24 23:04:04 -0400 (Fri, 24 Oct 2025) EllapsedTime: 2.1 seconds RetCode: 0 Status: OK PackageFile: GeneExpressionSignature_1.55.0.tgz PackageFileSize: 2.527 MiB