Package: GeneBreak Version: 1.40.0 Command: /home/biocbuild/bbs-3.22-bioc/R/bin/R CMD INSTALL GeneBreak StartedAt: 2025-10-31 15:24:32 -0400 (Fri, 31 Oct 2025) EndedAt: 2025-10-31 15:24:50 -0400 (Fri, 31 Oct 2025) EllapsedTime: 17.9 seconds RetCode: 0 Status: OK