Package: GeneBreak Version: 1.40.0 Command: /home/biocbuild/bbs-3.22-bioc/R/bin/R CMD build --keep-empty-dirs --no-resave-data --md5 GeneBreak StartedAt: 2025-10-31 17:55:01 -0400 (Fri, 31 Oct 2025) EndedAt: 2025-10-31 17:55:32 -0400 (Fri, 31 Oct 2025) EllapsedTime: 31.0 seconds RetCode: 0 Status: OK PackageFile: GeneBreak_1.40.0.tar.gz PackageFileSize: 4.275 MiB