Package: GenVisR Version: 1.41.3 Command: /home/biocbuild/bbs-3.22-bioc/R/bin/R CMD INSTALL GenVisR StartedAt: 2025-10-24 15:51:21 -0400 (Fri, 24 Oct 2025) EndedAt: 2025-10-24 15:52:12 -0400 (Fri, 24 Oct 2025) EllapsedTime: 50.4 seconds RetCode: 0 Status: OK