Package: GenVisR Version: 1.41.3 Command: /home/biocbuild/bbs-3.22-bioc/R/bin/R CMD build --keep-empty-dirs --no-resave-data --md5 GenVisR StartedAt: 2025-10-24 17:58:46 -0400 (Fri, 24 Oct 2025) EndedAt: 2025-10-24 18:01:25 -0400 (Fri, 24 Oct 2025) EllapsedTime: 159.1 seconds RetCode: 0 Status: OK PackageFile: GenVisR_1.41.3.tar.gz PackageFileSize: 4.937 MiB