Package: GenVisR Version: 1.42.0 Command: /Library/Frameworks/R.framework/Resources/bin/R CMD INSTALL GenVisR StartedAt: 2025-10-30 15:20:48 -0400 (Thu, 30 Oct 2025) EndedAt: 2025-10-30 15:21:08 -0400 (Thu, 30 Oct 2025) EllapsedTime: 20.8 seconds RetCode: 0 Status: OK