Package: GenProSeq Version: 1.14.0 Command: /home/biocbuild/R/R/bin/R CMD INSTALL GenProSeq StartedAt: 2025-11-17 21:17:21 -0000 (Mon, 17 Nov 2025) EndedAt: 2025-11-17 21:17:36 -0000 (Mon, 17 Nov 2025) EllapsedTime: 15.7 seconds RetCode: 0 Status: OK