Package: GenProSeq Version: 1.14.0 Command: /home/biocbuild/R/R/bin/R CMD build --keep-empty-dirs --no-resave-data GenProSeq StartedAt: 2025-11-18 01:52:33 -0000 (Tue, 18 Nov 2025) EndedAt: 2025-11-18 01:53:05 -0000 (Tue, 18 Nov 2025) EllapsedTime: 32.0 seconds RetCode: 0 Status: OK PackageFile: GenProSeq_1.14.0.tar.gz PackageFileSize: 1.14 MiB