Package: GenProSeq Version: 1.13.0 Command: /home/biocbuild/bbs-3.22-bioc/R/bin/R CMD check --install=check:GenProSeq.install-out.txt --library=/home/biocbuild/bbs-3.22-bioc/R/site-library --timings GenProSeq_1.13.0.tar.gz StartedAt: 2025-10-28 00:02:30 -0400 (Tue, 28 Oct 2025) EndedAt: 2025-10-28 00:03:55 -0400 (Tue, 28 Oct 2025) EllapsedTime: 85.1 seconds RetCode: 0 Status: OK CheckDir: GenProSeq.Rcheck Warnings: 0