Package: GeDi Version: 1.5.0 Command: /Library/Frameworks/R.framework/Resources/bin/R CMD INSTALL GeDi StartedAt: 2025-10-28 15:28:12 -0400 (Tue, 28 Oct 2025) EndedAt: 2025-10-28 15:28:34 -0400 (Tue, 28 Oct 2025) EllapsedTime: 22.3 seconds RetCode: 0 Status: OK