Package: GeDi Version: 1.6.0 Command: /Library/Frameworks/R.framework/Resources/bin/R CMD build --keep-empty-dirs --no-resave-data GeDi StartedAt: 2025-10-29 22:50:03 -0400 (Wed, 29 Oct 2025) EndedAt: 2025-10-29 22:51:16 -0400 (Wed, 29 Oct 2025) EllapsedTime: 72.9 seconds RetCode: 0 Status: OK PackageFile: GeDi_1.6.0.tar.gz PackageFileSize: 3.413 MiB