Package: GeDi Version: 1.5.0 Command: rm -rf GeDi.buildbin-libdir && mkdir GeDi.buildbin-libdir && /Users/biocbuild/BBS/utils/build-universal.sh GeDi_1.5.0.tar.gz /Library/Frameworks/R.framework/Resources/bin/R GeDi.buildbin-libdir StartedAt: 2025-10-28 23:00:38 -0400 (Tue, 28 Oct 2025) EndedAt: 2025-10-28 23:01:04 -0400 (Tue, 28 Oct 2025) EllapsedTime: 25.6 seconds RetCode: 0 Status: OK PackageFile: GeDi_1.5.0.tgz PackageFileSize: 2.781 MiB