Package: GateFinder Version: 1.29.0 Command: /home/biocbuild/bbs-3.22-bioc/R/bin/R CMD INSTALL GateFinder StartedAt: 2025-10-24 15:24:49 -0400 (Fri, 24 Oct 2025) EndedAt: 2025-10-24 15:25:00 -0400 (Fri, 24 Oct 2025) EllapsedTime: 11.2 seconds RetCode: 0 Status: OK