Package: GateFinder Version: 1.30.0 Command: /Library/Frameworks/R.framework/Resources/bin/R CMD INSTALL GateFinder StartedAt: 2025-11-03 15:21:14 -0500 (Mon, 03 Nov 2025) EndedAt: 2025-11-03 15:21:26 -0500 (Mon, 03 Nov 2025) EllapsedTime: 12.4 seconds RetCode: 0 Status: OK