Package: GateFinder Version: 1.30.0 Command: /Library/Frameworks/R.framework/Resources/bin/R CMD build --keep-empty-dirs --no-resave-data GateFinder StartedAt: 2025-11-03 17:05:52 -0500 (Mon, 03 Nov 2025) EndedAt: 2025-11-03 17:06:20 -0500 (Mon, 03 Nov 2025) EllapsedTime: 27.5 seconds RetCode: 0 Status: OK PackageFile: GateFinder_1.30.0.tar.gz PackageFileSize: 581.5 KiB